BEGIN:VCALENDAR
PRODID:-//github.com/rianjs/ical.net//NONSGML ical.net 4.0//EN
VERSION:2.0
BEGIN:VEVENT
DESCRIPTION:Der Sicherheitscheck von Fahrrädern und kleineren Reparaturen 
 durch den ADFC Erding findet nur bei guter Wetterlage im Freien vor der S
 chule statt.\nhttps://touren-termine.adfc.de/radveranstaltung/185630-adfc
 -beim-werkstattcafe
DTEND:20260613T150000Z
DTSTAMP:20260422T083530Z
DTSTART:20260613T120000Z
LOCATION:Heilig Blut 1\, 85435 Erding
SEQUENCE:0
SUMMARY:ADFC beim Werkstatt-Café
UID:0583e53b-ca4e-432e-9fe0-e4605118703d
URL:https://touren-termine.adfc.de/radveranstaltung/185630-adfc-beim-werks
 tattcafe
END:VEVENT
END:VCALENDAR
