BEGIN:VCALENDAR
PRODID:-//github.com/rianjs/ical.net//NONSGML ical.net 4.0//EN
VERSION:2.0
BEGIN:VEVENT
DESCRIPTION:Jeden Montag findet morgens eine Radtour statt.\nhttps://toure
 n-termine.adfc.de/radveranstaltung/126204-montag-morgen-tour
DTEND:20240304T110000Z
DTSTAMP:20260423T202027Z
DTSTART:20240304T090000Z
LOCATION:In der Ahe 29\, 27356 Rotenburg
SEQUENCE:0
SUMMARY:Montag Morgen Tour
UID:36109564-68e0-4217-9bfe-d7dc5c422cf0
URL:https://touren-termine.adfc.de/radveranstaltung/126204-montag-morgen-t
 our
END:VEVENT
END:VCALENDAR
