BEGIN:VCALENDAR
PRODID:-//github.com/rianjs/ical.net//NONSGML ical.net 4.0//EN
VERSION:2.0
BEGIN:VEVENT
DESCRIPTION:Radlertreff im Glossner Bräustübl\nhttps://touren-termine.adfc
 .de/radveranstaltung/185600-radlertreff
DTEND:20260424T200000Z
DTSTAMP:20260425T021610Z
DTSTART:20260424T170000Z
LOCATION:Glossner Bräustübl\, Schwesterhausgasse 9\, 92318 Neumarkt in der
  Oberpfalz
SEQUENCE:0
SUMMARY:Radlertreff
UID:68faa953-289d-40c3-a7bc-7cb2514e08ac
URL:https://touren-termine.adfc.de/radveranstaltung/185600-radlertreff
END:VEVENT
END:VCALENDAR
