BEGIN:VCALENDAR
PRODID:-//github.com/rianjs/ical.net//NONSGML ical.net 4.0//EN
VERSION:2.0
BEGIN:VEVENT
DESCRIPTION:Von Strausberg (Nord) fahren wir weitgehend über separate Radw
 eg über Wriezen\, das Oderbruch an der Oderbrücke vorbei nach Bad Freienw
 alde.\nhttps://touren-termine.adfc.de/radveranstaltung/197378-von-strausb
 erg-an-die-oder-nach-bad-freienwalde
DTEND:20260424T150000Z
DTSTAMP:20260419T130245Z
DTSTART:20260424T081000Z
LOCATION:S-Bhf. Strausberg Nord\, 15344 Strausberg
SEQUENCE:0
SUMMARY:Von Strausberg an die Oder nach Bad Freienwalde
UID:763621e9-2ed3-4aea-bb21-9c0213abfe4d
URL:https://touren-termine.adfc.de/radveranstaltung/197378-von-strausberg-
 an-die-oder-nach-bad-freienwalde
END:VEVENT
END:VCALENDAR
