BEGIN:VCALENDAR
PRODID:-//github.com/rianjs/ical.net//NONSGML ical.net 4.0//EN
VERSION:2.0
BEGIN:VEVENT
DESCRIPTION:Schnelle Tagestour zum Salinenfest in Sülze\nhttps://touren-te
 rmine.adfc.de/radveranstaltung/128526-tagestour-salinenfest-sulze-schnell
DTEND:20240915T160000Z
DTSTAMP:20260421T221336Z
DTSTART:20240915T080000Z
LOCATION:Herzogin-Eleonore-Allee / Am Teich im Französischen Garten\, 2922
 1 Celle
SEQUENCE:0
SUMMARY:Tagestour Salinenfest Sülze - schnell
UID:6b4274e7-5337-4fd9-b0f2-658aba91c043
URL:https://touren-termine.adfc.de/radveranstaltung/128526-tagestour-salin
 enfest-sulze-schnell
END:VEVENT
END:VCALENDAR
