BEGIN:VCALENDAR
PRODID:-//github.com/rianjs/ical.net//NONSGML ical.net 4.0//EN
VERSION:2.0
BEGIN:VEVENT
DESCRIPTION:Ab Bahnhof Spandau fahren wir durch die westliche Industriereg
 ion Berlins und lernen bedeutende Zeugnisse der Berliner Industriekultur 
 kennen.\nhttps://touren-termine.adfc.de/radveranstaltung/114296-berliner-
 fahrradwoche-industriekultur-erleben
DTEND:20240729T130000Z
DTSTAMP:20260424T144357Z
DTSTART:20240729T080000Z
LOCATION:Bhf. Berlin Spandau\, Ausgang Spandau Arcaden\, 13597 Berlin
SEQUENCE:0
SUMMARY:Berliner Fahrradwoche - Industriekultur erleben
UID:044f9426-5721-4c2b-b13c-a2b64dd47588
URL:https://touren-termine.adfc.de/radveranstaltung/114296-berliner-fahrra
 dwoche-industriekultur-erleben
END:VEVENT
END:VCALENDAR
