BEGIN:VCALENDAR
PRODID:-//github.com/rianjs/ical.net//NONSGML ical.net 4.0//EN
VERSION:2.0
BEGIN:VEVENT
DESCRIPTION:Fahrsicherheitstraining für Erwachsene. Auffrischung und Train
 ing der praktischen Grundkenntnisse der Fahrtechnik.\nBitte anmelden. Ter
 minänderung wg. Wetter!\nhttps://touren-termine.adfc.de/radveranstaltung/
 138952-fahrsicherheitstraining-in-kaufbeuren
DTEND:20240919T170000Z
DTSTAMP:20260419T155933Z
DTSTART:20240919T140000Z
LOCATION:Verkehrsübungsplatz am Tänzelfestplatz\, Honoldstraße in Kaufbeur
 en\, 87600 Kaufbeuren
SEQUENCE:0
SUMMARY:Fahrsicherheitstraining in Kaufbeuren
UID:42d25596-2ec3-4b93-88e5-4f4e6b93a246
URL:https://touren-termine.adfc.de/radveranstaltung/138952-fahrsicherheits
 training-in-kaufbeuren
END:VEVENT
END:VCALENDAR
