BEGIN:VCALENDAR
PRODID:-//github.com/rianjs/ical.net//NONSGML ical.net 4.0//EN
VERSION:2.0
BEGIN:VEVENT
DESCRIPTION:RÜCKSCHAU\nhttps://touren-termine.adfc.de/radveranstaltung/164
 975--hier-drunter-vergangene-termine
DTEND:20250505T110000Z
DTSTAMP:20260424T173356Z
DTSTART:20250505T100000Z
LOCATION:Grafenberger Straße 79\, 30853 Langenhagen
SEQUENCE:0
SUMMARY:///////////////// HIER drunter: VERGANGENE TERMINE
UID:d1b4c85a-fc01-4132-bb3b-d4245c36c4ec
URL:https://touren-termine.adfc.de/radveranstaltung/164975--hier-drunter-v
 ergangene-termine
END:VEVENT
END:VCALENDAR
