BEGIN:VCALENDAR
PRODID:-//github.com/rianjs/ical.net//NONSGML ical.net 4.0//EN
VERSION:2.0
BEGIN:VEVENT
DESCRIPTION: 18.06.2023  Auftaktveranstaltung mit Staffelmixmarathon - INF
 O-Stand + Codierung\nhttps://touren-termine.adfc.de/radveranstaltung/9274
 7-stadtradeln-im-kreis-ostallgau-1806-08072023
DTEND;VALUE=DATE:20230708
DTSTAMP:20260419T160006Z
DTSTART;VALUE=DATE:20230618
LOCATION:Schwabenstraße\, 87616 Marktoberdorf
SEQUENCE:0
SUMMARY:STADTRADELN im Kreis Ostallgäu 18.06. - 08.07.2023
UID:37902819-dd9e-4880-b2df-9b12cfc5bae1
URL:https://touren-termine.adfc.de/radveranstaltung/92747-stadtradeln-im-k
 reis-ostallgau-1806-08072023
END:VEVENT
END:VCALENDAR
