BEGIN:VCALENDAR
PRODID:-//github.com/rianjs/ical.net//NONSGML ical.net 4.0//EN
VERSION:2.0
BEGIN:VEVENT
DESCRIPTION:Bei mystischem Licht neue Landschaftseindrücke erleben.\nhttps
 ://touren-termine.adfc.de/radveranstaltung/169284-vollmondtour
DTEND:20250808T210000Z
DTSTAMP:20260421T114930Z
DTSTART:20250808T180000Z
LOCATION:Herzogin-Eleonore-Allee Französischer Garten Am Teich\, 29221 Cel
 le
SEQUENCE:0
SUMMARY:Vollmondtour
UID:0b42497a-7d49-440c-bbb0-a084a322ac33
URL:https://touren-termine.adfc.de/radveranstaltung/169284-vollmondtour
END:VEVENT
END:VCALENDAR
