BEGIN:VCALENDAR
PRODID:-//github.com/rianjs/ical.net//NONSGML ical.net 4.0//EN
VERSION:2.0
BEGIN:VEVENT
DESCRIPTION:TERMIN GEÄNDERT: Von Dreieich nach Schwanheim und bei Kelsterb
 ach über den Main. Durch die Felder bei Hattersheim nach Hofheim zur Eink
 ehr. Anmeldung notwendig\nhttps://touren-termine.adfc.de/radveranstaltung
 /144581-zum-herrenhaus-bei-hofheim
DTEND:20251019T143000Z
DTSTAMP:20260423T192613Z
DTSTART:20251019T080000Z
LOCATION:Lindenplatz\, 63303 Sprendlingen
SEQUENCE:0
SUMMARY:Zum Herrenhaus bei Hofheim
UID:d0eb47d6-3237-4e8c-848f-1b68c6f74327
URL:https://touren-termine.adfc.de/radveranstaltung/144581-zum-herrenhaus-
 bei-hofheim
END:VEVENT
END:VCALENDAR
