BEGIN:VCALENDAR
PRODID:-//github.com/rianjs/ical.net//NONSGML ical.net 4.0//EN
VERSION:2.0
BEGIN:VEVENT
DESCRIPTION:Radfahrer*innen treffen sich anscheinend zufällig und unorgani
 siert.\nhttps://touren-termine.adfc.de/radveranstaltung/128050-critical-m
 ass-hamburg
DTEND:20240329T210000Z
DTSTAMP:20260420T231254Z
DTSTART:20240329T180000Z
LOCATION:Elbberg\, 22767 Hamburg
SEQUENCE:0
SUMMARY:Critical Mass Hamburg
UID:436b1b35-b395-42e1-846d-a60d63980c7f
URL:https://touren-termine.adfc.de/radveranstaltung/128050-critical-mass-h
 amburg
END:VEVENT
END:VCALENDAR
