BEGIN:VCALENDAR
PRODID:-//github.com/rianjs/ical.net//NONSGML ical.net 4.0//EN
VERSION:2.0
BEGIN:VEVENT
DESCRIPTION:Vom Fredenbaum über Mengede zum Datteln-Hamm-Kanal.  Am Kanal 
 entlang bis zum Preussen Hafen. Cafe Pause am Hafen. Am Seseke Radweg ent
 lang\, über den NRW Radweg bis  Westik.\nhttps://touren-termine.adfc.de/r
 adveranstaltung/136150--preussen-hafen-uber-waltrop
DTEND:20241123T160000Z
DTSTAMP:20260421T114619Z
DTSTART:20241123T090000Z
LOCATION:Klinikzentrum Nord\, Schützenstr./Beethovenstr.\, 44147 Dortmund
SEQUENCE:0
SUMMARY: Preussen Hafen über Waltrop
UID:92fc5d9c-cd3f-4286-b79d-caecbb015ebc
URL:https://touren-termine.adfc.de/radveranstaltung/136150--preussen-hafen
 -uber-waltrop
END:VEVENT
END:VCALENDAR
