BEGIN:VCALENDAR
PRODID:-//github.com/rianjs/ical.net//NONSGML ical.net 4.0//EN
VERSION:2.0
BEGIN:VEVENT
DESCRIPTION:Unsere Geschäftsstelle ist für alle Anliegen und offenen Frage
 n geöffnet.\nhttps://touren-termine.adfc.de/radveranstaltung/147937-offnu
 ngszeit-unserer-geschaftsstelle
DTEND:20251113T170000Z
DTSTAMP:20260421T121528Z
DTSTART:20251113T150000Z
LOCATION:Essen (Innenstadt)\, ADFC Essen Geschäftsstelle\, Rottstraße 5\, 
 45127 Essen
SEQUENCE:0
SUMMARY:Öffnungszeit unserer Geschäftsstelle
UID:ac4004df-14ac-4119-bdf3-38349cab18af
URL:https://touren-termine.adfc.de/radveranstaltung/147937-offnungszeit-un
 serer-geschaftsstelle
END:VEVENT
END:VCALENDAR
