BEGIN:VCALENDAR
PRODID:-//github.com/rianjs/ical.net//NONSGML ical.net 4.0//EN
VERSION:2.0
BEGIN:VEVENT
DESCRIPTION:Die neu gegründete Frauengruppe im ADFC Stuttgart trifft sich 
 regelmäßig unter dem Motto "Keine fährt alleine" und lädt alle interessie
 rten Frauen zum Mitmachen ein. Heute am ADFC-Parklet!\nhttps://touren-ter
 mine.adfc.de/radveranstaltung/131370-adfc-frauengruppe-parklet-party
DTEND:20240610T180000Z
DTSTAMP:20260424T114745Z
DTSTART:20240610T160000Z
LOCATION:Reinsburgstraße 97\, 70197 Stuttgart
SEQUENCE:0
SUMMARY:ADFC Frauengruppe: Parklet Party!
UID:82bcdd4f-aa6c-411c-8ede-3aebe3fe63a9
URL:https://touren-termine.adfc.de/radveranstaltung/131370-adfc-frauengrup
 pe-parklet-party
END:VEVENT
END:VCALENDAR
