BEGIN:VCALENDAR
PRODID:-//github.com/rianjs/ical.net//NONSGML ical.net 4.0//EN
VERSION:2.0
BEGIN:VEVENT
DESCRIPTION:Von Stadthagen über Wendthagen\, Obernkirchen\, Buchholz und B
 orstel nach Westerwald. Weiter am Bückeberg entlang über Reinsdorf\, Lyhr
 en und Remeringhausen  zurück nach Stadthagen\,\nhttps://touren-termine.a
 dfc.de/radveranstaltung/178549-rund-um-den-buckeberg
DTEND:20261018T150000Z
DTSTAMP:20260420T215536Z
DTSTART:20261018T080000Z
LOCATION:Marktplatz \,Marktbrunnen\, 31655 Stadthagen
SEQUENCE:0
SUMMARY:Rund um den Bückeberg
UID:91fe9ed2-45a5-456f-b776-48bcde25a1a8
URL:https://touren-termine.adfc.de/radveranstaltung/178549-rund-um-den-buc
 keberg
END:VEVENT
END:VCALENDAR
