BEGIN:VCALENDAR
PRODID:-//github.com/rianjs/ical.net//NONSGML ical.net 4.0//EN
VERSION:2.0
BEGIN:VEVENT
DESCRIPTION:Offener Radelstammtisch der ADFC-Ortsgruppe Bad Berleburg\nhtt
 ps://touren-termine.adfc.de/radveranstaltung/158984-radelstammtisch-bad-b
 erleburg
DTEND:20250325T203000Z
DTSTAMP:20260423T030755Z
DTSTART:20250325T180000Z
LOCATION:Gasthof Klingelbach\, Am Sengelsberg 20\, 57319 Bad Berleburg
SEQUENCE:0
SUMMARY:Radelstammtisch Bad Berleburg
UID:9ff38207-d3fa-4fd4-a6d2-0917ca160786
URL:https://touren-termine.adfc.de/radveranstaltung/158984-radelstammtisch
 -bad-berleburg
END:VEVENT
END:VCALENDAR
