BEGIN:VCALENDAR
PRODID:-//github.com/rianjs/ical.net//NONSGML ical.net 4.0//EN
VERSION:2.0
BEGIN:VEVENT
DESCRIPTION:Leichte Tour nach FFB zum Frühstücken\nhttps://touren-termine.
 adfc.de/radveranstaltung/196960-cafe-vierwasser
DTEND:20260613T140000Z
DTSTAMP:20260421T100722Z
DTSTART:20260613T073000Z
LOCATION:Bike & Ride Fahrradparkhaus\, 85221 Dachau
SEQUENCE:0
SUMMARY:Cafe Vierwasser
UID:32aa84a1-28b5-42b2-898d-65a308a14e15
URL:https://touren-termine.adfc.de/radveranstaltung/196960-cafe-vierwasser
END:VEVENT
END:VCALENDAR
