BEGIN:VCALENDAR
PRODID:-//github.com/rianjs/ical.net//NONSGML ical.net 4.0//EN
VERSION:2.0
BEGIN:VEVENT
DESCRIPTION:Gemeinsam erkunden wir im gemächlichen Tempo die gar nicht meh
 r so neue Siegener Umweltspur.\nhttps://touren-termine.adfc.de/radveranst
 altung/148365-flanieren-auf-der-umweltspur
DTEND:20250107T183000Z
DTSTAMP:20260423T031248Z
DTSTART:20250107T170000Z
LOCATION:Jakob-Scheiner-Platz\, 57072 Siegen
SEQUENCE:0
SUMMARY:Flanieren auf der Umweltspur
UID:73d50a76-3190-460e-80f3-47039d1afd2d
URL:https://touren-termine.adfc.de/radveranstaltung/148365-flanieren-auf-d
 er-umweltspur
END:VEVENT
END:VCALENDAR
