BEGIN:VCALENDAR
PRODID:-//github.com/rianjs/ical.net//NONSGML ical.net 4.0//EN
VERSION:2.0
BEGIN:VEVENT
DESCRIPTION:Feierabendtour über kleine Straßen und gute Radwege von Olpe n
 ach Essinghausen. Ausschließlich Asphalt. Für Biobiker und Pedelec-Fahrer
 Innen. Anmeldung bis 28.04. obligatorisch.\nhttps://touren-termine.adfc.d
 e/radveranstaltung/149403-feierabendtour-von-olpe-nach-essinghausen
DTEND:20250429T180000Z
DTSTAMP:20260422T234409Z
DTSTART:20250429T160000Z
LOCATION:Seeweg 5\, Freizeitbad\, 57462 Olpe
SEQUENCE:0
SUMMARY:Feierabendtour von Olpe nach Essinghausen
UID:32817bfb-86f0-4e2b-9ae7-6a79f72fb415
URL:https://touren-termine.adfc.de/radveranstaltung/149403-feierabendtour-
 von-olpe-nach-essinghausen
END:VEVENT
END:VCALENDAR
