BEGIN:VCALENDAR
PRODID:-//github.com/rianjs/ical.net//NONSGML ical.net 4.0//EN
VERSION:2.0
BEGIN:VEVENT
DESCRIPTION:Durch Grunewald und Glienicke gehts mal auf schmalen\, mal auf
  breiten Wegen zur Halbinsel Töplitz\, wo wir das Geheimnis der 13 Göttin
 nen ergründen wollen. Zurück Döberitzer Heide zum S-Bf. Heerstrasse\nhttp
 s://touren-termine.adfc.de/radveranstaltung/180042-mtbcxtour-die-reise-zu
 -den-13-gottinnen
DTEND:20260321T170000Z
DTSTAMP:20260424T190300Z
DTSTART:20260321T083000Z
LOCATION:S-Bhf. Heerstraße\, Ausgang Boyenallee\, 14055 Berlin
SEQUENCE:0
SUMMARY:MTB/CX-Tour - Die Reise zu den 13 Göttinnen
UID:42506446-d46a-4efc-a3e0-34dd856916ab
URL:https://touren-termine.adfc.de/radveranstaltung/180042-mtbcxtour-die-r
 eise-zu-den-13-gottinnen
END:VEVENT
END:VCALENDAR
