BEGIN:VCALENDAR
PRODID:-//github.com/rianjs/ical.net//NONSGML ical.net 4.0//EN
VERSION:2.0
BEGIN:VEVENT
DESCRIPTION:Rundtour von Oranienburg durch das Löwenberger Land zum Dorfkr
 ug nach Meseberg\nhttps://touren-termine.adfc.de/radveranstaltung/102762-
 auf-fontanes-spuren-nach-meseberg
DTEND:20230617T153000Z
DTSTAMP:20260425T231750Z
DTSTART:20230617T083000Z
LOCATION:Bahnhof\, 16515 Oranienburg
SEQUENCE:0
SUMMARY:Auf Fontanes Spuren nach Meseberg
UID:f45816cc-0f1f-4a67-bfd2-416d9bd0dc3c
URL:https://touren-termine.adfc.de/radveranstaltung/102762-auf-fontanes-sp
 uren-nach-meseberg
END:VEVENT
END:VCALENDAR
