BEGIN:VCALENDAR
PRODID:-//github.com/rianjs/ical.net//NONSGML ical.net 4.0//EN
VERSION:2.0
BEGIN:VEVENT
DESCRIPTION:Der Radlertreff ist das Angebot an unsere Solinger Mitglieder 
 und ihre Freunde mit uns und interessanten Ansprechpartnern ins Gespräch 
 zu kommen.\nhttps://touren-termine.adfc.de/radveranstaltung/191560-radler
 treff-solingen-frau-seyfried-kommt
DTEND:20260324T200000Z
DTSTAMP:20260421T172636Z
DTSTART:20260324T183000Z
LOCATION:Locher Straße 17\, 42719 Solingen
SEQUENCE:0
SUMMARY:Radlertreff Solingen - Frau Seyfried kommt
UID:d469948a-742f-4298-a7bf-806dd4792278
URL:https://touren-termine.adfc.de/radveranstaltung/191560-radlertreff-sol
 ingen-frau-seyfried-kommt
END:VEVENT
END:VCALENDAR
