BEGIN:VCALENDAR
PRODID:-//github.com/rianjs/ical.net//NONSGML ical.net 4.0//EN
VERSION:2.0
BEGIN:VEVENT
DESCRIPTION:Vor dem Radlerstammtisch treffen sich die Aktiven und die Vors
 tandschaft.\nhttps://touren-termine.adfc.de/radveranstaltung/145066-aktiv
 entreff
DTEND:20251204T180000Z
DTSTAMP:20260419T155800Z
DTSTART:20251204T170000Z
LOCATION:Gasthaus Belfort\, Mindelheimer Straße 35\, 87600 Kaufbeuren
SEQUENCE:0
SUMMARY:Aktiventreff
UID:c705c771-5ea2-496c-9005-357ddb6d0891
URL:https://touren-termine.adfc.de/radveranstaltung/145066-aktiventreff
END:VEVENT
END:VCALENDAR
