BEGIN:VCALENDAR
PRODID:-//github.com/rianjs/ical.net//NONSGML ical.net 4.0//EN
VERSION:2.0
BEGIN:VEVENT
DESCRIPTION:Wir bieten verschiedene Strecken zwischen 25 km und 35 km Läng
 e mit einer Fahrtdauer von ca. 2 Stunden an.\nhttps://touren-termine.adfc
 .de/radveranstaltung/144803-feierabendtour-adfc-selbsthilfewerkstatt
DTEND:20250514T190000Z
DTSTAMP:20260420T082526Z
DTSTART:20250514T160000Z
LOCATION:ADFC Selbsthilfewerkstatt\, Weinweg 2\, 93049 Regensburg
SEQUENCE:0
SUMMARY:Feierabendtour: ADFC Selbsthilfewerkstatt
UID:3e8122d7-055c-4b8c-bf8b-e10098413a12
URL:https://touren-termine.adfc.de/radveranstaltung/144803-feierabendtour-
 adfc-selbsthilfewerkstatt
END:VEVENT
END:VCALENDAR
