BEGIN:VCALENDAR
PRODID:-//github.com/rianjs/ical.net//NONSGML ical.net 4.0//EN
VERSION:2.0
BEGIN:VEVENT
DESCRIPTION:Wir besuchen heute kurz das Volksfest in Mammendorf und fahren
  dann weiter zum pittoresken Café Streuselkuchen an der Wallfahrtskirche 
 Maria Kappl - geändert: ohne Beschränkung der Teilnehmerzahl!\nhttps://to
 uren-termine.adfc.de/radveranstaltung/118882-volksfest-mammendorf-und-caf
 e-streuselkuchen
DTEND:20240509T170000Z
DTSTAMP:20260425T150657Z
DTSTART:20240509T080000Z
LOCATION:Marktplatz\, 82205 Gilching
SEQUENCE:0
SUMMARY:Volksfest Mammendorf und Café Streuselkuchen
UID:be3b0974-9e65-45df-adc4-8ecc63066236
URL:https://touren-termine.adfc.de/radveranstaltung/118882-volksfest-mamme
 ndorf-und-cafe-streuselkuchen
END:VEVENT
END:VCALENDAR
