BEGIN:VCALENDAR
PRODID:-//github.com/rianjs/ical.net//NONSGML ical.net 4.0//EN
VERSION:2.0
BEGIN:VEVENT
DESCRIPTION:Diese Freitagstouren werden von verschiedenen Tourguides in mi
 ttlerem Tempo (15-17 km/h) angeboten und dauern ca. 2-3 Stunden. VORAUSSE
 TZUNG: Anmeldung und Spaß am gemeinsamen Fahrradfahren.\nhttps://touren-t
 ermine.adfc.de/radveranstaltung/191291-feierabendtour
DTEND:20260814T190000Z
DTSTAMP:20260422T173309Z
DTSTART:20260814T160000Z
LOCATION:Neuenhausplatz 24\, 40699 Erkrath
SEQUENCE:0
SUMMARY:Feierabendtour
UID:da16aaa5-6cd8-4bf0-9971-72cb8137f1ed
URL:https://touren-termine.adfc.de/radveranstaltung/191291-feierabendtour
END:VEVENT
END:VCALENDAR
