BEGIN:VCALENDAR
PRODID:-//github.com/rianjs/ical.net//NONSGML ical.net 4.0//EN
VERSION:2.0
BEGIN:VEVENT
DESCRIPTION:Unsere TourGuides Ursula Schmidt-Wehring & Harald Schmidt entf
 ühren die Radelnden nach Levern zu "RILA erleben" auf eine etwas längere 
 Tages-Tour von ca. 75 km.\nhttps://touren-termine.adfc.de/radveranstaltun
 g/175072-tour-in-die-erlebniswelt
DTEND:20260426T163000Z
DTSTAMP:20260424T193604Z
DTSTART:20260426T090000Z
LOCATION:Am Bahnhof 1\, 49356 Diepholz
SEQUENCE:0
SUMMARY:Tour in die Erlebniswelt
UID:d2b1d554-c7b7-411f-b963-253ce86109fc
URL:https://touren-termine.adfc.de/radveranstaltung/175072-tour-in-die-erl
 ebniswelt
END:VEVENT
END:VCALENDAR
