BEGIN:VCALENDAR
PRODID:-//github.com/rianjs/ical.net//NONSGML ical.net 4.0//EN
VERSION:2.0
BEGIN:VEVENT
DESCRIPTION:Sportliche Tagestour für Teilnehmer*innen mit guter Kondition\
 , die gerne längere Strecken bewältigen von ca. 60 -70 km.\nMax. 20 Teiln
 ehmer\, Anmeldung erforderlich!\nhttps://touren-termine.adfc.de/radverans
 taltung/146044-mittwochserlebnistour-leverkusen
DTEND:20250709T140000Z
DTSTAMP:20260419T155717Z
DTSTART:20250709T080000Z
LOCATION:Lindenplatz (Schlebusch)\, 51375 Leverkusen
SEQUENCE:0
SUMMARY:Mittwochserlebnistour Leverkusen
UID:61790730-b975-4e17-919d-66f550f499a1
URL:https://touren-termine.adfc.de/radveranstaltung/146044-mittwochserlebn
 istour-leverkusen
END:VEVENT
END:VCALENDAR
