BEGIN:VCALENDAR
PRODID:-//github.com/rianjs/ical.net//NONSGML ical.net 4.0//EN
VERSION:2.0
BEGIN:VEVENT
DESCRIPTION:Das traditionelle Sattelfest zum Anradeln in der S5-Region fin
 det in diesem Jahr im Sport- und Erholungspark in Strausberg statt. Eine 
 Tour der Sternfahrt zum Fest bietet die ADFC STG Wuhletal an.\nhttps://to
 uren-termine.adfc.de/radveranstaltung/155036-anradeln-eine-tour-zum-satte
 lfest-in-strausberg
DTEND:20250427T153000Z
DTSTAMP:20260421T233206Z
DTSTART:20250427T080000Z
LOCATION:Helene-Weigel-Platz\, 12681 Berlin
SEQUENCE:0
SUMMARY:Anradeln - eine Tour zum Sattelfest in Strausberg
UID:5da9d7c5-6a79-421b-b62b-f5a9e7ea183e
URL:https://touren-termine.adfc.de/radveranstaltung/155036-anradeln-eine-t
 our-zum-sattelfest-in-strausberg
END:VEVENT
END:VCALENDAR
