BEGIN:VCALENDAR
PRODID:-//github.com/rianjs/ical.net//NONSGML ical.net 4.0//EN
VERSION:2.0
BEGIN:VEVENT
DESCRIPTION:Das Ziel der Tour wird zu Beginn bekanntgegeben. Anschließend 
 Gelegenheit zur gemeinsamen Einkehr.\nhttps://touren-termine.adfc.de/radv
 eranstaltung/163292-feierabendtour
DTEND:20251003T180000Z
DTSTAMP:20260421T103317Z
DTSTART:20251003T160000Z
LOCATION: Rheidt\, kath. Kirche\, Hoher Rain 27\, 53859 Niederkassel
SEQUENCE:0
SUMMARY:Feierabendtour
UID:a5786a9f-9bd9-48de-851f-a7b94c968f6c
URL:https://touren-termine.adfc.de/radveranstaltung/163292-feierabendtour
END:VEVENT
END:VCALENDAR
