BEGIN:VCALENDAR
PRODID:-//github.com/rianjs/ical.net//NONSGML ical.net 4.0//EN
VERSION:2.0
BEGIN:VEVENT
DESCRIPTION:Wir treffen uns jeden 1. Donnerstag eines Monats (außer August
 ) um 19:00 Uhr im Gasthaus Belfort in Kaufbeuren\, Mindelheimer Str. 35. 
 Fahrrad-Codierung möglich.\nhttps://touren-termine.adfc.de/radveranstaltu
 ng/145076-adfcstammtisch
DTEND:20250904T190000Z
DTSTAMP:20260419T155729Z
DTSTART:20250904T170000Z
LOCATION:Gasthaus Belfort\, Mindelheimer Straße 35\, 87600 Kaufbeuren
SEQUENCE:0
SUMMARY:ADFC-Stammtisch
UID:c9e98e00-f191-407c-93d3-0ab6afff9b8e
URL:https://touren-termine.adfc.de/radveranstaltung/145076-adfcstammtisch
END:VEVENT
END:VCALENDAR
