BEGIN:VCALENDAR
PRODID:-//github.com/rianjs/ical.net//NONSGML ical.net 4.0//EN
VERSION:2.0
BEGIN:VEVENT
DESCRIPTION:Unsere Geschäftsstelle ist für alle Anliegen und offenen Frage
 n geöffnet.\nhttps://touren-termine.adfc.de/radveranstaltung/147925-offnu
 ngszeit-unserer-geschaftsstelle
DTEND:20251002T160000Z
DTSTAMP:20260421T120847Z
DTSTART:20251002T140000Z
LOCATION:Essen (Innenstadt)\, ADFC Essen Geschäftsstelle\, Rottstraße 5\, 
 45127 Essen
SEQUENCE:0
SUMMARY:Öffnungszeit unserer Geschäftsstelle
UID:4175b4b9-3891-4892-be45-54f1bc364a2d
URL:https://touren-termine.adfc.de/radveranstaltung/147925-offnungszeit-un
 serer-geschaftsstelle
END:VEVENT
END:VCALENDAR
