BEGIN:VCALENDAR
PRODID:-//github.com/rianjs/ical.net//NONSGML ical.net 4.0//EN
VERSION:2.0
BEGIN:VEVENT
DESCRIPTION:In der Nacht vom 7.auf den 8.Sept .können wir eine totale Mond
 finsternis erleben- sowie einen Supermond auch Blutmond genannt bestaunen
 .\nhttps://touren-termine.adfc.de/radveranstaltung/170843-vollmondtour
DTEND:20250907T203000Z
DTSTAMP:20260421T114453Z
DTSTART:20250907T170000Z
LOCATION:Herzogin-Eleonore-Allee Französischer Garte am Teich\, 29221 Celle
SEQUENCE:0
SUMMARY:Vollmondtour
UID:175e5265-b816-46fb-9230-27e03de9c0c3
URL:https://touren-termine.adfc.de/radveranstaltung/170843-vollmondtour
END:VEVENT
END:VCALENDAR
