BEGIN:VCALENDAR
PRODID:-//github.com/rianjs/ical.net//NONSGML ical.net 4.0//EN
VERSION:2.0
BEGIN:VEVENT
DESCRIPTION:Unsere Geschäftsstelle ist für alle Anliegen und offenen Frage
 n geöffnet.\nhttps://touren-termine.adfc.de/radveranstaltung/147885-offnu
 ngszeit-unserer-geschaftsstelle
DTEND:20250515T160000Z
DTSTAMP:20260421T120845Z
DTSTART:20250515T140000Z
LOCATION:Essen (Innenstadt)\, ADFC Essen Geschäftsstelle\, Rottstraße 5\, 
 45127 Essen
SEQUENCE:0
SUMMARY:Öffnungszeit unserer Geschäftsstelle
UID:28520a80-20a2-4b3a-b72a-741a35b6176f
URL:https://touren-termine.adfc.de/radveranstaltung/147885-offnungszeit-un
 serer-geschaftsstelle
END:VEVENT
END:VCALENDAR
