BEGIN:VCALENDAR
PRODID:-//github.com/rianjs/ical.net//NONSGML ical.net 4.0//EN
VERSION:2.0
BEGIN:VEVENT
DESCRIPTION:Von Regensburg über Ramspau nach Kallmünz\, Jura- und Flusslan
 dschaften im Regen- und Naabtal\nhttps://touren-termine.adfc.de/radverans
 taltung/117762-fahrt-zum-blauen-kaffeeauto-nach-kallmunz
DTEND:20240630T160000Z
DTSTAMP:20260424T152456Z
DTSTART:20240630T080000Z
LOCATION:Hauptbahnhof Regensburg\, Bahnhofvorplatz\, 93047 Regensburg
SEQUENCE:0
SUMMARY:Fahrt zum blauen Kaffeeauto nach Kallmünz
UID:b9cf5b46-2046-432c-9d6b-a54be6343c3b
URL:https://touren-termine.adfc.de/radveranstaltung/117762-fahrt-zum-blaue
 n-kaffeeauto-nach-kallmunz
END:VEVENT
END:VCALENDAR
