BEGIN:VCALENDAR
PRODID:-//github.com/rianjs/ical.net//NONSGML ical.net 4.0//EN
VERSION:2.0
BEGIN:VEVENT
DESCRIPTION:Von Stadthagen über Bückeburg nach Minden zur Schachtschleuse.
  Auf dem Weserradweg Richtung Petershagen zum Kürbismarkt in Meßlingen.\n
 https://touren-termine.adfc.de/radveranstaltung/144109-kurbismarkt-in-mes
 slingen
DTEND:20251005T160000Z
DTSTAMP:20260420T174158Z
DTSTART:20251005T073000Z
LOCATION:Marktplatz \,Marktbrunnen\, 31655 Stadthagen
SEQUENCE:0
SUMMARY:Kürbismarkt in Meßlingen
UID:285deee3-43f1-40e0-8b36-d8c2674d5861
URL:https://touren-termine.adfc.de/radveranstaltung/144109-kurbismarkt-in-
 messlingen
END:VEVENT
END:VCALENDAR
