BEGIN:VCALENDAR
PRODID:-//github.com/rianjs/ical.net//NONSGML ical.net 4.0//EN
VERSION:2.0
BEGIN:VEVENT
DESCRIPTION:Mit einem Lastenradkorso feiern wir die Rückkehr von Siegtal P
 ur nach Si-Wi. Treffpunkt 11.00 auf der HTS Fahrtrichtung Eiserfeld direk
 t hinter der Auffahrt Sieghütte. Rundkurs durch die Tunnel.\nhttps://tour
 en-termine.adfc.de/radveranstaltung/165862-lastenradparade-durch-die-tunn
 el
DTEND:20250706T103000Z
DTSTAMP:20260422T234535Z
DTSTART:20250706T090000Z
LOCATION:Hüttentalstraße Fahrtrichtung Eiserfeld hinter der Auffahrt Siegh
 ütte\, 57072 Siegen
SEQUENCE:0
SUMMARY:Lastenradparade durch die Tunnel
UID:ede9bc57-3e85-44fa-9ed9-d5e6cfaf82f9
URL:https://touren-termine.adfc.de/radveranstaltung/165862-lastenradparade
 -durch-die-tunnel
END:VEVENT
END:VCALENDAR
