BEGIN:VCALENDAR
PRODID:-//github.com/rianjs/ical.net//NONSGML ical.net 4.0//EN
VERSION:2.0
BEGIN:VEVENT
DESCRIPTION:ADFC-Fahrradcodierung in der Geschäftsstelle\nhttps://touren-t
 ermine.adfc.de/radveranstaltung/146005-fahrradcodierung-adfc-leverkusen-s
 eptember
DTEND:20250908T120000Z
DTSTAMP:20260419T155837Z
DTSTART:20250908T090000Z
LOCATION:ADFC-Geschäftsstelle\, Freiherr-vom-Stein-Straße 5a\, 51379 Lever
 kusen
SEQUENCE:0
SUMMARY:Fahrradcodierung ADFC Leverkusen September
UID:e1114dcf-ff7a-40a9-8837-cc4f650516c4
URL:https://touren-termine.adfc.de/radveranstaltung/146005-fahrradcodierun
 g-adfc-leverkusen-september
END:VEVENT
END:VCALENDAR
