BEGIN:VCALENDAR
PRODID:-//github.com/rianjs/ical.net//NONSGML ical.net 4.0//EN
VERSION:2.0
BEGIN:VEVENT
DESCRIPTION:75 bis 80 km\,18-20 km/h\, Start: 09:30 Uhr\, 23.08.2025\, ab 
 Wickrath über Erkelenz\, Baal (Einkehrmöglichkeit)\, Rurtal\, Wassenberg 
 (Einkehrmöglichkeit) und Wegberg zurück nach Wickrath.\nhttps://touren-te
 rmine.adfc.de/radveranstaltung/169437-wickrath-baal-rurtal-wegberg-wickra
 th
DTEND:20250823T140000Z
DTSTAMP:20260420T233108Z
DTSTART:20250823T073000Z
LOCATION:Bahnhofsplatz\, 41189 Mönchengladbach
SEQUENCE:0
SUMMARY:Wickrath - Baal - Rurtal - Wegberg - Wickrath
UID:6e9f87be-9652-4620-ad67-2e7599e89091
URL:https://touren-termine.adfc.de/radveranstaltung/169437-wickrath-baal-r
 urtal-wegberg-wickrath
END:VEVENT
END:VCALENDAR
