BEGIN:VCALENDAR
PRODID:-//github.com/rianjs/ical.net//NONSGML ical.net 4.0//EN
VERSION:2.0
BEGIN:VEVENT
DESCRIPTION:Nach lange Radpause\, bei Umstieg aufs Pedelec oder nach Unfal
 l:  Wir machen Sie fit fürs Rad!\nhttps://touren-termine.adfc.de/radveran
 staltung/132512-adfc-fahrsicherheitstraining
DTEND:20240622T160000Z
DTSTAMP:20260424T150749Z
DTSTART:20240622T120000Z
LOCATION:Isarstraße 24\, 93057 Regensburg
SEQUENCE:0
SUMMARY:ADFC Fahrsicherheitstraining
UID:5332c332-c8f3-48bd-9a16-fdf31ad45ec3
URL:https://touren-termine.adfc.de/radveranstaltung/132512-adfc-fahrsicher
 heitstraining
END:VEVENT
END:VCALENDAR
