BEGIN:VCALENDAR
PRODID:-//github.com/rianjs/ical.net//NONSGML ical.net 4.0//EN
VERSION:2.0
BEGIN:VEVENT
DESCRIPTION:Durch Codierung können Fahrräder von der Polizei ihrem Besitze
 r zugeordnet und aufgefundene Räder leichter zurückgegeben werden.\nhttps
 ://touren-termine.adfc.de/radveranstaltung/169860-fahrradcodierung-zur-di
 ebstahlspravention
DTEND:20250904T170000Z
DTSTAMP:20260419T172206Z
DTSTART:20250904T150000Z
LOCATION:Uerdinger Straße 67-69\, 47799 Krefeld
SEQUENCE:0
SUMMARY:Fahrrad-Codierung zur Diebstahlsprävention
UID:aa8d51fc-bcc9-4866-8c60-2c9cb0dbaa78
URL:https://touren-termine.adfc.de/radveranstaltung/169860-fahrradcodierun
 g-zur-diebstahlspravention
END:VEVENT
END:VCALENDAR
