BEGIN:VCALENDAR
PRODID:-//github.com/rianjs/ical.net//NONSGML ical.net 4.0//EN
VERSION:2.0
BEGIN:VEVENT
DESCRIPTION:Rundtour durch das Gilserberger Hochland\nhttps://touren-termi
 ne.adfc.de/radveranstaltung/122445-treysa-gemunden
DTEND:20240804T130000Z
DTSTAMP:20260421T101045Z
DTSTART:20240804T070000Z
LOCATION:Treysa Haaßehügel Infotafel Bahnradweg\, 34613 Treysa
SEQUENCE:0
SUMMARY:Treysa - Gemünden
UID:fc3d53c4-018d-4e11-ae33-2a10bcd4d1f8
URL:https://touren-termine.adfc.de/radveranstaltung/122445-treysa-gemunden
END:VEVENT
END:VCALENDAR
