BEGIN:VCALENDAR
PRODID:-//github.com/rianjs/ical.net//NONSGML ical.net 4.0//EN
VERSION:2.0
BEGIN:VEVENT
DESCRIPTION:Wir radeln zu den öffentlich zugänglichen Defibrillatoren in d
 er Stadt\, mit Unterweisung durch das BRK\nhttps://touren-termine.adfc.de
 /radveranstaltung/172949-besonderes-feierabendradeln
DTEND:20251014T180000Z
DTSTAMP:20260424T151027Z
DTSTART:20251014T160000Z
LOCATION:Hildegardplatz\, 87435 Kempten (Allgäu)
SEQUENCE:0
SUMMARY:Besonderes Feierabendradeln
UID:f26595be-ccc4-4f28-9d29-d13487fae169
URL:https://touren-termine.adfc.de/radveranstaltung/172949-besonderes-feie
 rabendradeln
END:VEVENT
END:VCALENDAR
