BEGIN:VCALENDAR
PRODID:-//github.com/rianjs/ical.net//NONSGML ical.net 4.0//EN
VERSION:2.0
BEGIN:VEVENT
DESCRIPTION:Schöne Rundtour auf den 3 Stormarner Bahnradwegen\nhttps://tou
 ren-termine.adfc.de/radveranstaltung/116413-die-stormarner-bahnradwege
DTEND:20240804T150000Z
DTSTAMP:20260424T015744Z
DTSTART:20240804T080000Z
LOCATION:Bahnhof Ahrensburg\, Bahnhofstraße 13\, 22926 Ahrensburg
SEQUENCE:0
SUMMARY:Die Stormarner Bahnradwege
UID:483b1087-3b1a-40ed-b835-a356e64b27a8
URL:https://touren-termine.adfc.de/radveranstaltung/116413-die-stormarner-
 bahnradwege
END:VEVENT
END:VCALENDAR
