BEGIN:VCALENDAR
PRODID:-//github.com/rianjs/ical.net//NONSGML ical.net 4.0//EN
VERSION:2.0
BEGIN:VEVENT
DESCRIPTION:Eine Radtour zu den Rastplätzen der Zugvögel entlang des Elber
 adweges.\nhttps://touren-termine.adfc.de/radveranstaltung/176054-auf-den-
 spuren-der-kraniche
DTEND:20261011T140000Z
DTSTAMP:20260421T053039Z
DTSTART:20261011T084500Z
LOCATION:Bahnhofstraße\, 21781 Landkreis Cuxhaven
SEQUENCE:0
SUMMARY:Auf den Spuren der Kraniche
UID:2b908a53-91d6-4621-b092-b8b9867d96c9
URL:https://touren-termine.adfc.de/radveranstaltung/176054-auf-den-spuren-
 der-kraniche
END:VEVENT
END:VCALENDAR
