BEGIN:VCALENDAR
PRODID:-//github.com/rianjs/ical.net//NONSGML ical.net 4.0//EN
VERSION:2.0
BEGIN:VEVENT
DESCRIPTION:Mit der Fähre nach Graurheindorf und an Bonn vorbei zur Waldga
 ststätte Bahnhof Kottenforst (Einkehr). Rückfahrt durch den Kottenforst R
 ichtung Bornheim und zurück zur Rheinfähre Mondorf.\nhttps://touren-termi
 ne.adfc.de/radveranstaltung/163293-zum-bahnhof-kottenforst
DTEND:20250824T140000Z
DTSTAMP:20260421T100910Z
DTSTART:20250824T090000Z
LOCATION: Rheidt\, kath. Kirche\, Hoher Rain 27\, 53859 Niederkassel
SEQUENCE:0
SUMMARY:Zum Bahnhof Kottenforst
UID:deb706d5-61a4-40ee-9169-453fba52fd60
URL:https://touren-termine.adfc.de/radveranstaltung/163293-zum-bahnhof-kot
 tenforst
END:VEVENT
END:VCALENDAR
