BEGIN:VCALENDAR
PRODID:-//github.com/rianjs/ical.net//NONSGML ical.net 4.0//EN
VERSION:2.0
BEGIN:VEVENT
DESCRIPTION:Das Ziel wird bei Beginn der Tour bekannt gegeben.\nhttps://to
 uren-termine.adfc.de/radveranstaltung/120749-feierabendtour-bonn
DTEND:20240402T190000Z
DTSTAMP:20260421T101133Z
DTSTART:20240402T160000Z
LOCATION: Poppelsdorfer Schlossweiherbrücke\, 53115 Bonn
SEQUENCE:0
SUMMARY:Feierabendtour Bonn
UID:472cb5ed-67d7-4d23-93b6-16ffa1d1ffad
URL:https://touren-termine.adfc.de/radveranstaltung/120749-feierabendtour-
 bonn
END:VEVENT
END:VCALENDAR
