BEGIN:VCALENDAR
PRODID:-//github.com/rianjs/ical.net//NONSGML ical.net 4.0//EN
VERSION:2.0
BEGIN:VEVENT
DESCRIPTION:Eine leichte\, kindgerechte Familien Radtour zu Spielplätzen d
 er Umgebung. Eine Anmeldung pro Familie erwünscht.\nhttps://touren-termin
 e.adfc.de/radveranstaltung/190692-familien-radtour
DTEND:20260426T130000Z
DTSTAMP:20260421T190541Z
DTSTART:20260426T090000Z
LOCATION:Parkplatz Holschentor\, Talstraße 8\, 45525 Hattingen
SEQUENCE:0
SUMMARY:Familien Radtour
UID:3985e6b5-cecb-4274-8529-45de1ecae0a2
URL:https://touren-termine.adfc.de/radveranstaltung/190692-familien-radtour
END:VEVENT
END:VCALENDAR
