BEGIN:VCALENDAR
PRODID:-//github.com/rianjs/ical.net//NONSGML ical.net 4.0//EN
VERSION:2.0
BEGIN:VEVENT
DESCRIPTION:Die Tour führt uns über Nienbrügge\, Bergkirchen\, Wiedenbrügg
 e und Mardorf nach Schneeren. Weiter geht die Fahrt durch ein schönes Wal
 dgebiet in Richtung Stadt Rehburg und Loccum.\nhttps://touren-termine.adf
 c.de/radveranstaltung/143915-radtour-zum-dorf-der-tausend-eichen
DTEND:20250713T150000Z
DTSTAMP:20260420T173500Z
DTSTART:20250713T080000Z
LOCATION:Marktplatz \,Marktbrunnen\, 31655 Stadthagen
SEQUENCE:0
SUMMARY:Radtour zum Dorf der "Tausend Eichen"
UID:904dcf6d-bcad-4656-a4e9-0830f0a89876
URL:https://touren-termine.adfc.de/radveranstaltung/143915-radtour-zum-dor
 f-der-tausend-eichen
END:VEVENT
END:VCALENDAR
